BEGIN:VCALENDAR
VERSION:2.0
PRODID:-//Tukios.com/
BEGIN:VEVENT
UID:9a879294-4268-463e-88f5-0078cc888a0e@obits.levinefuneral.com
DTSTAMP:20260419T224938Z
DTSTART:20260420T160000Z
DTEND:20260420T170000Z
SUMMARY:Funeral Service
DESCRIPTION:
URL:https://obits.levinefuneral.com/bernice-cohen-2026
LOCATION:Joseph Levine & Sons 4737 Street Road  Feasterville-Trevose PA 
	19053
GEO:40.1368789;-74.9824287
END:VEVENT
END:VCALENDAR