BEGIN:VCALENDAR
VERSION:2.0
PRODID:-//Tukios.com/
BEGIN:VEVENT
UID:38e506df-545e-47da-989c-c313d2d4450f@obits.levinefuneral.com
DTSTAMP:20260419T224938Z
DTSTART:20260420
SUMMARY:Burial
DESCRIPTION:
URL:https://obits.levinefuneral.com/bernice-cohen-2026
LOCATION: 25 Byberry Rd  Huntingdon Valley PA 19006
GEO:40.1341579;-75.0266508
END:VEVENT
END:VCALENDAR