BEGIN:VCALENDAR
VERSION:2.0
PRODID:-//Tukios.com/
BEGIN:VEVENT
UID:11966514-a280-4f1f-a8b0-da11a3a6c31a@obits.levinefuneral.com
DTSTAMP:20260420T224221Z
DTSTART:20260426T151500Z
DTEND:20260426T161500Z
SUMMARY:Graveside Service
DESCRIPTION:
URL:https://obits.levinefuneral.com/beverly-hayden
LOCATION:Knollwood Park Cemetery 57-80 Cooper Ave  Ridgewood NY 11385
GEO:40.6938291;-73.8986357
END:VEVENT
END:VCALENDAR