BEGIN:VCALENDAR
VERSION:2.0
PRODID:-//Tukios.com/
BEGIN:VEVENT
UID:ed721153-4b06-4d65-91c3-790a7d270e67@obits.levinefuneral.com
DTSTAMP:20260422T181440Z
DTSTART:20260429T150000Z
DTEND:20260429T160000Z
SUMMARY:Graveside Service
DESCRIPTION:
URL:https://obits.levinefuneral.com/charles-marcus
LOCATION: 200 Moores Rd  Frazer PA 19355
GEO:40.048096;-75.5700667
END:VEVENT
END:VCALENDAR