BEGIN:VCALENDAR
VERSION:2.0
PRODID:-//Tukios.com/
BEGIN:VEVENT
UID:3cbd8acc-094b-4f6e-82f7-c1dd11a160e2@obits.levinefuneral.com
DTSTAMP:20260421T085006Z
DTSTART:20260420
SUMMARY:Interment
DESCRIPTION:
URL:https://obits.levinefuneral.com/donald-joseph
LOCATION: 600 Church Rd  Jenkintown PA 19046
GEO:40.0784298;-75.0918704
END:VEVENT
END:VCALENDAR