BEGIN:VCALENDAR
VERSION:2.0
PRODID:-//Tukios.com/
BEGIN:VEVENT
UID:e0917ab5-e4f0-40cc-9ed1-b04b8fbe88ca@obits.levinefuneral.com
DTSTAMP:20260423T210119Z
DTSTART:20260424T143000Z
DTEND:20260424T153000Z
SUMMARY:Graveside Service
DESCRIPTION:
URL:https://obits.levinefuneral.com/joan-shames
LOCATION: 3594 Bristol Road  Bensalem PA 19020
GEO:40.1348492;-74.9453773
END:VEVENT
END:VCALENDAR