BEGIN:VCALENDAR
VERSION:2.0
PRODID:-//Tukios.com/
BEGIN:VEVENT
UID:bbc803f2-b7c9-4e52-b714-83773e5d3799@obits.levinefuneral.com
DTSTAMP:20260422T191516Z
DTSTART:20260423T173000Z
DTEND:20260423T183000Z
SUMMARY:Funeral Service
DESCRIPTION:
URL:https://obits.levinefuneral.com/john-krauser
LOCATION: 4737 Street Road  Trevose PA 19053
GEO:40.1368789;-74.9824287
END:VEVENT
END:VCALENDAR