BEGIN:VCALENDAR
VERSION:2.0
PRODID:-//Tukios.com/
BEGIN:VEVENT
UID:b4f65042-cce0-44e9-824d-0382e9da82cf@obits.levinefuneral.com
DTSTAMP:20260422T191322Z
DTSTART:20260423
SUMMARY:Interment
DESCRIPTION:
URL:https://obits.levinefuneral.com/john-krauser
LOCATION: 2701 Old Lincoln Hwy  Trevose PA 19053
GEO:40.127442;-74.9764481
END:VEVENT
END:VCALENDAR