BEGIN:VCALENDAR
VERSION:2.0
PRODID:-//Tukios.com/
BEGIN:VEVENT
UID:8f1b1114-c160-4ef7-8d15-e9b34c44f18c@obits.levinefuneral.com
DTSTAMP:20260422T013854Z
DTSTART:20260423T150000Z
DTEND:20260423T160000Z
SUMMARY:Memorial Service
DESCRIPTION:
URL:https://obits.levinefuneral.com/joyce-levin-2026
LOCATION:Joseph Levine and Sons 1002 Skippack Pike  Blue Bell PA 19422
GEO:40.1597618;-75.2788881
END:VEVENT
END:VCALENDAR