BEGIN:VCALENDAR
VERSION:2.0
PRODID:-//Tukios.com/
BEGIN:VEVENT
UID:d58971a7-5fe3-412d-baf3-71395c94be2e@obits.levinefuneral.com
DTSTAMP:20260422T222611Z
DTSTART:20260424T163000Z
DTEND:20260424T173000Z
SUMMARY:Funeral Service
DESCRIPTION:
URL:https://obits.levinefuneral.com/perry-rothaus
LOCATION:Joseph Levine & Sons Funeral Home 1002 Skippack Pike  Blue Bell 
	PA 19422
GEO:40.1597618;-75.2788881
END:VEVENT
END:VCALENDAR