BEGIN:VCALENDAR
VERSION:2.0
PRODID:-//Tukios.com/
BEGIN:VEVENT
UID:a0714870-f095-4628-bd96-4892393d9969@obits.levinefuneral.com
DTSTAMP:20260422T222657Z
DTSTART:20260424
SUMMARY:Interment
DESCRIPTION:
URL:https://obits.levinefuneral.com/perry-rothaus
LOCATION:Montefiore Cemetery 600 Church Road  Jenkintown PA 19046
GEO:40.0784426;-75.0918741
END:VEVENT
END:VCALENDAR